BEGIN:VCALENDAR
VERSION:2.0
PRODID:-//eventon.com NONSGML v1.0//EN
BEGIN:VEVENT
UID:69e737ab9e50e
DTSTAMP:20260421T103907
DTSTART:20230128T140000Z
DTEND:20230128T160000Z
TZID:Europe/Stockholm
LOCATION:Hälsans hus Fjällgatan 23B 
SUMMARY:Övermedvetandet – vår högsta organiska struktur\,  Olav Johansson
DESCRIPTION: Övermedvetandet är vår verkliga evighetskropp\,  visar Martinus. Hur det kan vara just en evighetskropp ska vi titta lite närmare på i detta föredrag\,  där vi också kommer att stifta bekantskap med begreppen ”den högsta elden”\,  ”urbegäret”\,  ”ödeselementet”\,  ”talangkärnorna”\,  ”dags- och nattmedvetandet” m.m. Välkommen!\nhttps://martinus.se/events/overmedvetandet-var-hogsta-organiska-struktur-olav-johansson/
URL:https://martinus.se/events/overmedvetandet-var-hogsta-organiska-struktur-olav-johansson/
END:VEVENT
END:VCALENDAR