BEGIN:VCALENDAR
VERSION:2.0
PRODID:-//eventon.com NONSGML v1.0//EN
BEGIN:VEVENT
UID:69e4cbf5b50fa
DTSTAMP:20260419T143501
DTSTART:20231209T140000Z
DTEND:20231209T160000Z
TZID:Europe/Stockholm
LOCATION:Hälsans hus Fjällgatan 23B 
SUMMARY:Den andre och jag själv som subjekt - hur rädda sin nästa och sig själv i ljuset av esoteriska världbilder\,  Mikael Krall
DESCRIPTION: OBS: Föredraget filmas inte. Det kan bara upplevas på plats. En utblick över situationen på jorden visar att mänskligheten nu befinner sig i en kritisk situation.I omfattande esoteriska världsbilder (teosofi\,  antroposofi och Martinus kosmologi) beskrivsmänniskans konstitution och utveckling. Människans utveckling handlar enligt dessabeskrivningar om en evolutionistisk resa vars mål är[..]\nhttps://martinus.se/events/foredrag-av-mikael-krall/
URL:https://martinus.se/events/foredrag-av-mikael-krall/
END:VEVENT
END:VCALENDAR