BEGIN:VCALENDAR
VERSION:2.0
PRODID:-//eventon.com NONSGML v1.0//EN
BEGIN:VEVENT
UID:69e73781157e1
DTSTAMP:20260421T103825
DTSTART:20200314T150000Z
DTEND:20200314T170000Z
TZID:UTC
LOCATION:Hälsans hus Fjällgatan 23B 
SUMMARY:Kan man äta sig frisk?\,  Gunnar Johansson
DESCRIPTION: Hur ser den idealiska födan ut? Finns det någon skillnad på hur naturvetenskapen och Martinus ser på detta? Vi kan se att naturvetenskapens syn på hur vår mat påverkar vår hälsa närmar sig Martinus beskrivning mer och mer\,  t.ex. om man ser på de kostrekommendationer som ges ut av olika[..]\nhttps://martinus.se/events/kan-man-ata-sig-frisk-gunnar-johansson/
URL:https://martinus.se/events/kan-man-ata-sig-frisk-gunnar-johansson/
END:VEVENT
END:VCALENDAR