BEGIN:VCALENDAR
VERSION:2.0
PRODID:-//eventon.com NONSGML v1.0//EN
BEGIN:VEVENT
UID:69e7370f245ff
DTSTAMP:20260421T103631
DTSTART:20210515T150000Z
DTEND:20210515T160000Z
TZID:UTC
LOCATION:
SUMMARY:Martinus kosmiska världsbild fyller 100 år\,  Willy Kuijper (Endast digitalt)
DESCRIPTION: I mars år 1921 ägde en banbrytande händelse rum: En religiös omvälvning med historiska dimensioner och framtidsperspektiv för människan\,  mänskligheten och jorden. I fördraget kommer Willy bland annat berätta om 100-årsdagen för de upplevelser som ligger bakom Martinus livsverk och om hur inspirationen från dessa går ihop med den generella utvecklingen.[..]\nhttps://martinus.se/events/martinus-kosmiska-varldsbild-fyller-100-ar-willy-kuijper-endast-digitalt/
URL:https://martinus.se/events/martinus-kosmiska-varldsbild-fyller-100-ar-willy-kuijper-endast-digitalt/
END:VEVENT
END:VCALENDAR